BEGIN:VCALENDAR
VERSION:2.0
PRODID:-//ANTT - ECPv6.13.2.1//NONSGML v1.0//EN
CALSCALE:GREGORIAN
METHOD:PUBLISH
X-WR-CALNAME:ANTT
X-ORIGINAL-URL:https://antt.org.br
X-WR-CALDESC:Eventos para ANTT
REFRESH-INTERVAL;VALUE=DURATION:PT1H
X-Robots-Tag:noindex
X-PUBLISHED-TTL:PT1H
BEGIN:VTIMEZONE
TZID:America/Sao_Paulo
BEGIN:STANDARD
TZOFFSETFROM:-0300
TZOFFSETTO:-0300
TZNAME:-03
DTSTART:20250101T000000
END:STANDARD
END:VTIMEZONE
BEGIN:VEVENT
DTSTART;VALUE=DATE:20250206
DTEND;VALUE=DATE:20250209
DTSTAMP:20260420T081008
CREATED:20241105T012841Z
LAST-MODIFIED:20250118T233259Z
UID:3440-1738800000-1739059199@antt.org.br
SUMMARY:ANTT Barrel Show 2025
DESCRIPTION:ANTT BARREL SHOW 2025\nHaras Raphaela – 06\, 07 e 08 de fevereiro\nO EVENTO CONCEITO DA ANTT – 6 ANOS DE HISTÓRIA \nInscrições Abertas – www.sgpsistema.com\nMais informações nas redes sociais da ANTT
URL:https://antt.org.br/event/antt-barrel-show-2025/
END:VEVENT
BEGIN:VEVENT
DTSTART;VALUE=DATE:20250212
DTEND;VALUE=DATE:20250216
DTSTAMP:20260420T081008
CREATED:20250118T233211Z
LAST-MODIFIED:20250122T220727Z
UID:3499-1739318400-1739663999@antt.org.br
SUMMARY:ANTT ZD & EK Premium - Etapa Bônus
DESCRIPTION:ETAPA BÔNUS – PROVA ZD & EK PREMIUM\n12 a 15 de fevereiro de 2025\nHaras Terra – Narandiba-SP \nInscrições Abertas www.sgpsistema.com \nMais informações nas redes sociais da ANTT
URL:https://antt.org.br/event/antt-zd-ek-premium-etapa-bonus/
END:VEVENT
END:VCALENDAR