BEGIN:VCALENDAR
VERSION:2.0
PRODID:-//ANTT - ECPv6.13.2.1//NONSGML v1.0//EN
CALSCALE:GREGORIAN
METHOD:PUBLISH
X-ORIGINAL-URL:https://antt.org.br
X-WR-CALDESC:Eventos para ANTT
REFRESH-INTERVAL;VALUE=DURATION:PT1H
X-Robots-Tag:noindex
X-PUBLISHED-TTL:PT1H
BEGIN:VTIMEZONE
TZID:America/Sao_Paulo
BEGIN:STANDARD
TZOFFSETFROM:-0300
TZOFFSETTO:-0300
TZNAME:-03
DTSTART:20240101T000000
END:STANDARD
END:VTIMEZONE
BEGIN:VEVENT
DTSTART;VALUE=DATE:20240606
DTEND;VALUE=DATE:20240609
DTSTAMP:20260420T201808
CREATED:20231223T132057Z
LAST-MODIFIED:20231223T132057Z
UID:2876-1717632000-1717891199@antt.org.br
SUMMARY:4º RODEIO PELA VIDA (Hospital do Amor)
DESCRIPTION:
URL:https://antt.org.br/event/4o-rodeio-pela-vida-hospital-do-amor/
END:VEVENT
BEGIN:VEVENT
DTSTART;VALUE=DATE:20240614
DTEND;VALUE=DATE:20240617
DTSTAMP:20260420T201808
CREATED:20231223T132115Z
LAST-MODIFIED:20231223T132115Z
UID:2878-1718323200-1718582399@antt.org.br
SUMMARY:36ª FESTA DO PEÃO DE AMERIANA
DESCRIPTION:
URL:https://antt.org.br/event/36a-festa-do-peao-de-ameriana/
END:VEVENT
END:VCALENDAR