BEGIN:VCALENDAR
VERSION:2.0
PRODID:-//ANTT - ECPv6.13.2.1//NONSGML v1.0//EN
CALSCALE:GREGORIAN
METHOD:PUBLISH
X-WR-CALNAME:ANTT
X-ORIGINAL-URL:https://antt.org.br
X-WR-CALDESC:Eventos para ANTT
REFRESH-INTERVAL;VALUE=DURATION:PT1H
X-Robots-Tag:noindex
X-PUBLISHED-TTL:PT1H
BEGIN:VTIMEZONE
TZID:America/Sao_Paulo
BEGIN:STANDARD
TZOFFSETFROM:-0300
TZOFFSETTO:-0300
TZNAME:-03
DTSTART:20240101T000000
END:STANDARD
END:VTIMEZONE
BEGIN:VEVENT
DTSTART;VALUE=DATE:20240920
DTEND;VALUE=DATE:20240923
DTSTAMP:20260420T172315
CREATED:20240917T023030Z
LAST-MODIFIED:20240917T023030Z
UID:3365-1726790400-1727049599@antt.org.br
SUMMARY:ANTT Selff Arena - Etapa Bônus
DESCRIPTION:ANTT SELFF ARENA – Haras Raphaela\nAbertura Temporada 2025 \nInscrições abertas: www.sgpsistema.com
URL:https://antt.org.br/event/antt-selff-arena/
LOCATION:Haras Raphaela\, Rodovia Marechal Rondon\, km 146\, Tietê\, 18540-000\, Brasil
END:VEVENT
END:VCALENDAR