BEGIN:VCALENDAR
VERSION:2.0
PRODID:-//ANTT - ECPv6.13.2.1//NONSGML v1.0//EN
CALSCALE:GREGORIAN
METHOD:PUBLISH
X-WR-CALNAME:ANTT
X-ORIGINAL-URL:https://antt.org.br
X-WR-CALDESC:Eventos para ANTT
REFRESH-INTERVAL;VALUE=DURATION:PT1H
X-Robots-Tag:noindex
X-PUBLISHED-TTL:PT1H
BEGIN:VTIMEZONE
TZID:America/Sao_Paulo
BEGIN:STANDARD
TZOFFSETFROM:-0300
TZOFFSETTO:-0300
TZNAME:-03
DTSTART:20240101T000000
END:STANDARD
END:VTIMEZONE
BEGIN:VEVENT
DTSTART;VALUE=DATE:20240816
DTEND;VALUE=DATE:20240818
DTSTAMP:20260420T184824
CREATED:20240711T154454Z
LAST-MODIFIED:20240807T185045Z
UID:3265-1723766400-1723939199@antt.org.br
SUMMARY:REVOLUTION BARREL RACING
DESCRIPTION:Revolution Barrel Racing – Araçatuba-SP
URL:https://antt.org.br/event/revolution-barrel-racing/
END:VEVENT
END:VCALENDAR